BEGIN:VCALENDAR
VERSION:2.0
PRODID:www.mobile-brownie.com
X-WR-TIMEZONE:Europe/Berlin
X-PUBLISHED-TTL:P1W
BEGIN:VEVENT
UID:69e9bc1fc8798
DTSTART;TZID=Europe/Berlin:20260816T130000
SEQUENCE:0
TRANSP:OPAQUE
DTEND;TZID=Europe/Berlin:20260816T180000
LOCATION:Rinteln Marktplatz 
SUMMARY:Verkaufsoffener Sonntag in Rinteln
DTSTAMP:20260423T082847Z
END:VEVENT
BEGIN:VEVENT
UID:69e9bc1fc8865
DTSTART;TZID=Europe/Berlin:20260913T130000
SEQUENCE:0
TRANSP:OPAQUE
DTEND;TZID=Europe/Berlin:20260913T180000
LOCATION:Rinteln Marktplatz 
SUMMARY:Verkaufsoffener Sonntag in Rinteln
DTSTAMP:20260423T082847Z
END:VEVENT
BEGIN:VEVENT
UID:69e9bc1fc8923
DTSTART;TZID=Europe/Berlin:20261004T130000
SEQUENCE:0
TRANSP:OPAQUE
DTEND;TZID=Europe/Berlin:20261004T180000
LOCATION:Rinteln Marktplatz 
SUMMARY:Verkaufsoffener Sonntag in Rinteln
DTSTAMP:20260423T082847Z
END:VEVENT
BEGIN:VEVENT
UID:69e9bc1fc8a10
DTSTART;TZID=Europe/Berlin:20261108T130000
SEQUENCE:0
TRANSP:OPAQUE
DTEND;TZID=Europe/Berlin:20261108T180000
LOCATION:Rinteln Marktplatz 
SUMMARY:Verkaufsoffener Sonntag in Rinteln
DTSTAMP:20260423T082847Z
END:VEVENT
BEGIN:VTIMEZONE
TZID:Europe/Berlin
X-LIC-LOCATION:Europe/Berlin
END:VTIMEZONE
END:VCALENDAR